BEGIN:VCALENDAR
VERSION:2.0
PRODID:-//Mercy Road • Be the Change for Seniors - ECPv6.15.17//NONSGML v1.0//EN
CALSCALE:GREGORIAN
METHOD:PUBLISH
X-ORIGINAL-URL:https://mercyroadseniors.org
X-WR-CALDESC:Events for Mercy Road • Be the Change for Seniors
REFRESH-INTERVAL;VALUE=DURATION:PT1H
X-Robots-Tag:noindex
X-PUBLISHED-TTL:PT1H
BEGIN:VTIMEZONE
TZID:America/New_York
BEGIN:DAYLIGHT
TZOFFSETFROM:-0500
TZOFFSETTO:-0400
TZNAME:EDT
DTSTART:20240310T070000
END:DAYLIGHT
BEGIN:STANDARD
TZOFFSETFROM:-0400
TZOFFSETTO:-0500
TZNAME:EST
DTSTART:20241103T060000
END:STANDARD
BEGIN:DAYLIGHT
TZOFFSETFROM:-0500
TZOFFSETTO:-0400
TZNAME:EDT
DTSTART:20250309T070000
END:DAYLIGHT
BEGIN:STANDARD
TZOFFSETFROM:-0400
TZOFFSETTO:-0500
TZNAME:EST
DTSTART:20251102T060000
END:STANDARD
BEGIN:DAYLIGHT
TZOFFSETFROM:-0500
TZOFFSETTO:-0400
TZNAME:EDT
DTSTART:20260308T070000
END:DAYLIGHT
BEGIN:STANDARD
TZOFFSETFROM:-0400
TZOFFSETTO:-0500
TZNAME:EST
DTSTART:20261101T060000
END:STANDARD
END:VTIMEZONE
BEGIN:VEVENT
DTSTART;TZID=America/New_York:20251203T093000
DTEND;TZID=America/New_York:20251203T120000
DTSTAMP:20260419T211031
CREATED:20251009T233325Z
LAST-MODIFIED:20260225T222037Z
UID:269-1764754200-1764763200@mercyroadseniors.org
SUMMARY:Be the Change for Seniors Christmas Toy Sale
DESCRIPTION:  Be the Change for Seniors Christmas Toy Sale\n\n\n\n■ Date: December 3\, 2025\n■ Time: 9:30 AM – 12:00 PM (while supplies last)\n■ Location: GRP Studios\, 165 W Maine Ave\, Longwood\, FL 32750\n■ Brand new toys for the grandkids ranging from $1.00 to $20.00!
URL:https://mercyroadseniors.org/event/be-the-change-for-seniors-christmas-toy-sale/
LOCATION:GRP Studios\, 165 W Maine Ave\, Longwood\, 32750 \, United States
END:VEVENT
BEGIN:VEVENT
DTSTART;TZID=America/New_York:20251210T083000
DTEND;TZID=America/New_York:20251210T130000
DTSTAMP:20260419T211031
CREATED:20251009T233604Z
LAST-MODIFIED:20251009T233604Z
UID:271-1765355400-1765371600@mercyroadseniors.org
SUMMARY:Senior Fraud Symposium
DESCRIPTION:Senior Fraud Symposium\nSpeakers: Jeff Deal Channel 9 Investigative Reporter\, FBI\, Seminole County Sheriff Fraud Division and the Better Business Bureau\nTopic: A broad discussion about the current senior scams plaguing our senior population and how recognize the scam\nLunch will be served\n\nDate: Wednesday 12/10\n\nTime: 8:30am – 1:00pm\nLocation: The Rink at Northland Church 530 Dog Track Rd\, Longwood\, FL 32750\n\n\nRegistration Required
URL:https://mercyroadseniors.org/event/senior-fraud-symposium/
LOCATION:Northland Church
CATEGORIES:Senior
END:VEVENT
BEGIN:VEVENT
DTSTART;TZID=America/New_York:20251215T170000
DTEND;TZID=America/New_York:20251215T190000
DTSTAMP:20260419T211031
CREATED:20251212T120627Z
LAST-MODIFIED:20251212T120656Z
UID:286-1765818000-1765825200@mercyroadseniors.org
SUMMARY:Christmas Dinner with Teen Challenge
DESCRIPTION:
URL:https://mercyroadseniors.org/event/christmas-dinner-with-teen-challenge/
LOCATION:3706 S Sanford Ave\, 3706 S Sanford Ave\, Sanford\, FL\, 32773\, United States
END:VEVENT
BEGIN:VEVENT
DTSTART;TZID=America/New_York:20251217T123000
DTEND;TZID=America/New_York:20251217T150000
DTSTAMP:20260419T211031
CREATED:20251009T233732Z
LAST-MODIFIED:20251009T233732Z
UID:273-1765974600-1765983600@mercyroadseniors.org
SUMMARY:Senior Matinee - Christmas Chronicles
DESCRIPTION:Senior Matinee\nMovie-Christmas Chronicles\nLunch will be served\nDate: Wednesday 12/17\nTime: Lunch at 12:30\nMovie at 1:30\nLocation: Longwood Community Building 200 W Warren Ave\, Longwood FL 32750\nRegistration needed
URL:https://mercyroadseniors.org/event/senior-matinee-christmas-chronicles/
LOCATION:Longwood Community Building\, 200 W Warren Ave\, Longwood\, 32750\, United States
CATEGORIES:Senior
END:VEVENT
BEGIN:VEVENT
DTSTART;VALUE=DATE:20251224
DTEND;VALUE=DATE:20251225
DTSTAMP:20260419T211031
CREATED:20251009T233822Z
LAST-MODIFIED:20251009T233822Z
UID:276-1766534400-1766620799@mercyroadseniors.org
SUMMARY:No Meeting- Merry Christmas
DESCRIPTION:No Meeting- Merry Christmas
URL:https://mercyroadseniors.org/event/no-meeting-merry-christmas/
LOCATION:FL
END:VEVENT
BEGIN:VEVENT
DTSTART;VALUE=DATE:20251231
DTEND;VALUE=DATE:20260101
DTSTAMP:20260419T211031
CREATED:20251009T233909Z
LAST-MODIFIED:20251009T233909Z
UID:278-1767139200-1767225599@mercyroadseniors.org
SUMMARY:No Meeting- Happy New Year
DESCRIPTION:No Meeting- Happy New Year
URL:https://mercyroadseniors.org/event/no-meeting-happy-new-year/
LOCATION:FL
CATEGORIES:Senior
END:VEVENT
END:VCALENDAR