BEGIN:VCALENDAR
VERSION:2.0
PRODID:-//Mercy Road • Be the Change for Seniors - ECPv6.15.17//NONSGML v1.0//EN
CALSCALE:GREGORIAN
METHOD:PUBLISH
X-ORIGINAL-URL:https://mercyroadseniors.org
X-WR-CALDESC:Events for Mercy Road • Be the Change for Seniors
REFRESH-INTERVAL;VALUE=DURATION:PT1H
X-Robots-Tag:noindex
X-PUBLISHED-TTL:PT1H
BEGIN:VTIMEZONE
TZID:America/New_York
BEGIN:DAYLIGHT
TZOFFSETFROM:-0500
TZOFFSETTO:-0400
TZNAME:EDT
DTSTART:20240310T070000
END:DAYLIGHT
BEGIN:STANDARD
TZOFFSETFROM:-0400
TZOFFSETTO:-0500
TZNAME:EST
DTSTART:20241103T060000
END:STANDARD
BEGIN:DAYLIGHT
TZOFFSETFROM:-0500
TZOFFSETTO:-0400
TZNAME:EDT
DTSTART:20250309T070000
END:DAYLIGHT
BEGIN:STANDARD
TZOFFSETFROM:-0400
TZOFFSETTO:-0500
TZNAME:EST
DTSTART:20251102T060000
END:STANDARD
BEGIN:DAYLIGHT
TZOFFSETFROM:-0500
TZOFFSETTO:-0400
TZNAME:EDT
DTSTART:20260308T070000
END:DAYLIGHT
BEGIN:STANDARD
TZOFFSETFROM:-0400
TZOFFSETTO:-0500
TZNAME:EST
DTSTART:20261101T060000
END:STANDARD
END:VTIMEZONE
BEGIN:VEVENT
DTSTART;TZID=America/New_York:20251001T093000
DTEND;TZID=America/New_York:20251001T120000
DTSTAMP:20260420T124116
CREATED:20250911T142953Z
LAST-MODIFIED:20250911T142953Z
UID:246-1759311000-1759320000@mercyroadseniors.org
SUMMARY:The Inside Track to Medicare and Medicaid presented by Debbie Richardson
DESCRIPTION:
URL:https://mercyroadseniors.org/event/the-inside-track-to-medicare-and-medicaid-presented-by-debbie-richardson/
LOCATION:Northland Church
CATEGORIES:Senior
END:VEVENT
BEGIN:VEVENT
DTSTART;TZID=America/New_York:20251008T093000
DTEND;TZID=America/New_York:20251008T120000
DTSTAMP:20260420T124116
CREATED:20250911T143033Z
LAST-MODIFIED:20250911T143033Z
UID:248-1759915800-1759924800@mercyroadseniors.org
SUMMARY:Estate Planing
DESCRIPTION:
URL:https://mercyroadseniors.org/event/estate-planing/
LOCATION:Northland Church
CATEGORIES:Senior
END:VEVENT
BEGIN:VEVENT
DTSTART;TZID=America/New_York:20251015T123000
DTEND;TZID=America/New_York:20251015T150000
DTSTAMP:20260420T124116
CREATED:20251009T232059Z
LAST-MODIFIED:20251009T232059Z
UID:251-1760531400-1760540400@mercyroadseniors.org
SUMMARY:Senior Matinee - Senior Moment
DESCRIPTION:Lunch will be served\nDate: Wednesday 10/15\nTime: Lunch at 12:30\nMovie at 1:30\nLocation: Longwood Community Building 200 W Warren Ave\, Longwood FL 32750\nRegistration needed
URL:https://mercyroadseniors.org/event/senior-matinee-senior-moment/
LOCATION:Longwood Community Building\, 200 W Warren Ave\, Longwood\, 32750\, United States
END:VEVENT
BEGIN:VEVENT
DTSTART;TZID=America/New_York:20251022T150000
DTEND;TZID=America/New_York:20251022T170000
DTSTAMP:20260420T124116
CREATED:20251009T232414Z
LAST-MODIFIED:20251009T232414Z
UID:254-1761145200-1761152400@mercyroadseniors.org
SUMMARY:3 Odd Guys Brewery Senior Social
DESCRIPTION:3 Odd Guys Brewery Senior Social\nDate: 10/22\nTime: 3pm-5pm\nLocation: 3 Odd Guys Brewery 956 West SR 434 Longwood\, Fl 32750\nRegistration needed
URL:https://mercyroadseniors.org/event/3-odd-guys-brewery-senior-social/
LOCATION:3 Odd Guys Brewery\, 956 West SR 434\, Longwood\, FL\, 32750\, United States
CATEGORIES:Senior
END:VEVENT
BEGIN:VEVENT
DTSTART;TZID=America/New_York:20251029T093000
DTEND;TZID=America/New_York:20251029T120000
DTSTAMP:20260420T124116
CREATED:20251009T232543Z
LAST-MODIFIED:20251009T232543Z
UID:258-1761730200-1761739200@mercyroadseniors.org
SUMMARY:Legal Shield presented by Elizabeth Pocelko
DESCRIPTION:Legal Shield presented by Elizabeth Pocelko\nTopic: Access to legal advice for one low monthly payment\nDate: Wednesday 10/29\nTime: 9:30am – 12:00pm\nLocation: The Hub at Northland Church 522 Dog Track Rd\, Longwood\, FL 32750\nRegistration needed
URL:https://mercyroadseniors.org/event/legal-shield-presented-by-elizabeth-pocelko/
LOCATION:Northland Church
CATEGORIES:Senior
END:VEVENT
END:VCALENDAR