BEGIN:VCALENDAR
VERSION:2.0
PRODID:-//Mercy Road • Be the Change for Seniors - ECPv6.15.17//NONSGML v1.0//EN
CALSCALE:GREGORIAN
METHOD:PUBLISH
X-ORIGINAL-URL:https://mercyroadseniors.org
X-WR-CALDESC:Events for Mercy Road • Be the Change for Seniors
REFRESH-INTERVAL;VALUE=DURATION:PT1H
X-Robots-Tag:noindex
X-PUBLISHED-TTL:PT1H
BEGIN:VTIMEZONE
TZID:America/New_York
BEGIN:DAYLIGHT
TZOFFSETFROM:-0500
TZOFFSETTO:-0400
TZNAME:EDT
DTSTART:20240310T070000
END:DAYLIGHT
BEGIN:STANDARD
TZOFFSETFROM:-0400
TZOFFSETTO:-0500
TZNAME:EST
DTSTART:20241103T060000
END:STANDARD
BEGIN:DAYLIGHT
TZOFFSETFROM:-0500
TZOFFSETTO:-0400
TZNAME:EDT
DTSTART:20250309T070000
END:DAYLIGHT
BEGIN:STANDARD
TZOFFSETFROM:-0400
TZOFFSETTO:-0500
TZNAME:EST
DTSTART:20251102T060000
END:STANDARD
BEGIN:DAYLIGHT
TZOFFSETFROM:-0500
TZOFFSETTO:-0400
TZNAME:EDT
DTSTART:20260308T070000
END:DAYLIGHT
BEGIN:STANDARD
TZOFFSETFROM:-0400
TZOFFSETTO:-0500
TZNAME:EST
DTSTART:20261101T060000
END:STANDARD
END:VTIMEZONE
BEGIN:VEVENT
DTSTART;TZID=America/New_York:20250902T093000
DTEND;TZID=America/New_York:20250902T113000
DTSTAMP:20260424T232515
CREATED:20250726T161617Z
LAST-MODIFIED:20250726T161617Z
UID:214-1756805400-1756812600@mercyroadseniors.org
SUMMARY:Senior Bingo
DESCRIPTION:
URL:https://mercyroadseniors.org/event/senior-bingo-3/
LOCATION:Longwood Community Building\, 200 W Warren Ave\, Longwood\, 32750\, United States
CATEGORIES:Senior
END:VEVENT
BEGIN:VEVENT
DTSTART;TZID=America/New_York:20250924T093000
DTEND;TZID=America/New_York:20250924T120000
DTSTAMP:20260424T232515
CREATED:20250911T142907Z
LAST-MODIFIED:20250911T142907Z
UID:243-1758706200-1758715200@mercyroadseniors.org
SUMMARY:Self Defense and Balance with Master G
DESCRIPTION:Master G\, Michelle Golino-Crisco\, is a 7th-degree black belt—one of 3 women in the Unified International Taekwon-Do Federation to hold this title after four decades of Taekwon-Do dedication. Her mission is simple yet powerful: to empower souls and transform lives. Her journey began in 1980 in historic New Haven\, CT. I was just twelve when she lost my father to gun violence\, an experience that shaped her deep commitment to building safer\, stronger communities. Taekwon-Do became her refuge\, it gave her the strength to overcome personal tragedies\, earn a spot on the USA Women’s Taekwon-Do Team\, and eventually open her own dojang in 1997. Fast forward to 2021\, during Covid\, She founded A Charity Empowered to Save Souls (ACETSS.org) to give others the same opportunity to heal\, grow\, and thrive through authentic Taekwon-Do. \n 
URL:https://mercyroadseniors.org/event/self-defense-and-balance-with-master-g/
LOCATION:Northland Church
CATEGORIES:Senior
END:VEVENT
END:VCALENDAR